BEGIN:VCALENDAR
VERSION:2.0
PRODID:-//INTiBS//NONSGML kigkonsult.se iCalcreator 2.30.10//
CALSCALE:GREGORIAN
METHOD:PUBLISH
UID:0170fc82-1da2-496b-9231-574d8e994597
X-WR-CALNAME:iCagenda
X-WR-CALDESC:Event Management Extension for Joomla!
X-WR-RELCALID:3E26604A-50F4-4449-8B3E-E4F4932D05B5
X-WR-TIMEZONE:UTC
BEGIN:VTIMEZONE
TZID:UTC
END:VTIMEZONE
BEGIN:VEVENT
UID:4c31094f-8436-4ca0-ac3c-adc374da989f
DTSTAMP:20260420T043721Z
CATEGORIES:Konferencje
CLASS:PUBLIC
DESCRIPTION;ALTREP="CID:<FFFF__=0ABBE548DFE235B58f9e8a93d@coffeebean.com>":
 Organizer: Institute of Low Temperature and Structure Research\, PAS\nThe 
 SCTE Conference\, organized biannually\, is traditionally aimed to provide
  a platform to discuss recent discoveries and progress in research on soli
 d compounds containing d- and f-electron elements - in the field of solid 
 state chemistry\, physics and materials science. It is also a unique oppor
 tunity to exchange ideas with other scientists in informal atmosphere and 
 to start new collaboration.\nThe conference will address the latest progre
 ss in these fields in plenary talks to be given by experts for all the par
 ticipants as well as invited lectures and oral contributions during parall
 el sessions for specialists in particular fields\, and in poster presentat
 ions.\nDue to the COVID-19 outbreak all the events of SCTE 2021 have exclu
 sively a form of on-line meetings.
DTSTART:20210412T000000Z
DTEND:20210416T000000Z
GEO:00;0
LOCATION:on-line meeting
ORGANIZER:
SEQUENCE:1
SUMMARY:The International Conference on Solid Compounds of Transition Eleme
 nts
TRANSP:OPAQUE
URL:https://www.intibs.pl/en/seminars/past-conferences/85-the-international
 -conference-on-solid-compounds-of-transition-elements-2.html
END:VEVENT
END:VCALENDAR
