BEGIN:VCALENDAR
VERSION:2.0
PRODID:-//INTiBS//NONSGML kigkonsult.se iCalcreator 2.30.10//
CALSCALE:GREGORIAN
METHOD:PUBLISH
UID:cb02463f-404f-4828-acfa-1aedc2279615
X-WR-CALNAME:iCagenda
X-WR-CALDESC:Event Management Extension for Joomla!
X-WR-RELCALID:3E26604A-50F4-4449-8B3E-E4F4932D05B5
X-WR-TIMEZONE:UTC
BEGIN:VTIMEZONE
TZID:UTC
END:VTIMEZONE
BEGIN:VEVENT
UID:87eac1ea-2511-4e6d-8e79-077d51357a54
DTSTAMP:20260423T091107Z
CATEGORIES:Konferencje
CLASS:PUBLIC
DESCRIPTION:
DTSTART:20090625T000000Z
DTEND:20090627T000000Z
GEO:00;0
LOCATION:Wrocław
ORGANIZER:
SEQUENCE:1
SUMMARY:51 Konwersatorium Krystalograficzne oraz III Sesja Naukowa i Warszt
 aty Polskiego Towarzystwa Krystalograficznego
TRANSP:OPAQUE
URL:https://www.intibs.pl/en/seminars/past-conferences/43-51-konwersatorium
 -krystalograficzne-oraz-iii-sesja-naukowa-i-warsztaty-polskiego-towarzystw
 a-krystalograficznego.html
END:VEVENT
END:VCALENDAR
