BEGIN:VCALENDAR
VERSION:2.0
PRODID:-//INTiBS//NONSGML kigkonsult.se iCalcreator 2.30.10//
CALSCALE:GREGORIAN
METHOD:PUBLISH
UID:4929d08d-4f66-494a-8e12-4dbd3bc7accb
X-WR-CALNAME:iCagenda
X-WR-CALDESC:Event Management Extension for Joomla!
X-WR-RELCALID:3E26604A-50F4-4449-8B3E-E4F4932D05B5
X-WR-TIMEZONE:UTC
BEGIN:VTIMEZONE
TZID:UTC
END:VTIMEZONE
BEGIN:VEVENT
UID:8790d91e-c541-4678-9d1d-8d62d92cbe3a
DTSTAMP:20260423T085844Z
CATEGORIES:Konferencje
CLASS:PUBLIC
DESCRIPTION:
DTSTART:20080412T000000Z
DTEND:20080415T000000Z
GEO:00;0
LOCATION:Wrocław
ORGANIZER:
SEQUENCE:1
SUMMARY:38èmes Journées des Actinides
TRANSP:OPAQUE
URL:https://www.intibs.pl/en/seminars/past-conferences/38-38emes-journees-d
 es-actinides.html
END:VEVENT
END:VCALENDAR
