BEGIN:VCALENDAR
VERSION:2.0
PRODID:-//INTiBS//NONSGML kigkonsult.se iCalcreator 2.30.10//
CALSCALE:GREGORIAN
METHOD:PUBLISH
UID:3fda1b83-4a53-4de6-9ccc-ccf5e28450c4
X-WR-CALNAME:iCagenda
X-WR-CALDESC:Event Management Extension for Joomla!
X-WR-RELCALID:3E26604A-50F4-4449-8B3E-E4F4932D05B5
X-WR-TIMEZONE:UTC
BEGIN:VTIMEZONE
TZID:UTC
END:VTIMEZONE
BEGIN:VEVENT
UID:aa37c2e3-9813-4773-b0a7-08b243411aef
DTSTAMP:20260423T125517Z
CATEGORIES:Konferencje
CLASS:PUBLIC
DESCRIPTION:
DTSTART:20071106T000000Z
DTEND:20071110T000000Z
GEO:00;0
LOCATION:Lądek Zdrój
ORGANIZER:
SEQUENCE:1
SUMMARY:13 Krajowa Szkoła Nadprzewodnictwa: Nadprzewodnictwo\, uporządkowan
 ie spinowe i ładunkowe
TRANSP:OPAQUE
URL:https://www.intibs.pl/en/seminars/past-conferences/37-13-krajowa-szkola
 -nadprzewodnictwa-nadprzewodnictwo-uporzadkowanie-spinowe-i-ladunkowe.html
END:VEVENT
END:VCALENDAR
