BEGIN:VCALENDAR
VERSION:2.0
PRODID:-//INTiBS//NONSGML kigkonsult.se iCalcreator 2.30.10//
CALSCALE:GREGORIAN
METHOD:PUBLISH
UID:161ce9c5-cb2d-44ed-b235-07ad890e40c3
X-WR-CALNAME:iCagenda
X-WR-CALDESC:Event Management Extension for Joomla!
X-WR-RELCALID:3E26604A-50F4-4449-8B3E-E4F4932D05B5
X-WR-TIMEZONE:UTC
BEGIN:VTIMEZONE
TZID:UTC
END:VTIMEZONE
BEGIN:VEVENT
UID:0c19e93a-3b95-4efb-be7a-f106a1aa977c
DTSTAMP:20260425T123513Z
CATEGORIES:Konferencje
CLASS:PUBLIC
DESCRIPTION:
DTSTART:20070912T000000Z
DTEND:20070916T000000Z
GEO:00;0
LOCATION:Wrocław
ORGANIZER:
SEQUENCE:1
SUMMARY:IXth International Conference on Molecular Spectroscopy\, From Mole
 cules to Molecular Biological Systems and Molecular Materials: Role of Mol
 ecular Int
TRANSP:OPAQUE
URL:https://www.intibs.pl/en/seminars/past-conferences/36-ixth-internationa
 l-conference-on-molecular-spectroscopy-from-molecules-to-molecular-biologi
 cal-systems-and-molecular-materials-role-of-molecular-int.html
END:VEVENT
END:VCALENDAR
