BEGIN:VCALENDAR
VERSION:2.0
PRODID:-//INTiBS//NONSGML kigkonsult.se iCalcreator 2.30.10//
CALSCALE:GREGORIAN
METHOD:PUBLISH
UID:effb04bd-36ce-4a48-86b0-2cdbd9778c3c
X-WR-CALNAME:iCagenda
X-WR-CALDESC:Event Management Extension for Joomla!
X-WR-RELCALID:3E26604A-50F4-4449-8B3E-E4F4932D05B5
X-WR-TIMEZONE:UTC
BEGIN:VTIMEZONE
TZID:UTC
END:VTIMEZONE
BEGIN:VEVENT
UID:7ea6cd8c-bbab-4968-a692-f671743e3b73
DTSTAMP:20260423T085904Z
CATEGORIES:Konferencje
CLASS:PUBLIC
DESCRIPTION:
DTSTART:20070628T000000Z
DTEND:20070629T000000Z
GEO:00;0
LOCATION:Wrocław
ORGANIZER:
SEQUENCE:1
SUMMARY:49 Konwersatorium Krystalograficzne
TRANSP:OPAQUE
URL:https://www.intibs.pl/en/seminars/past-conferences/35-49-konwersatorium
 -krystalograficzne.html
END:VEVENT
END:VCALENDAR
