BEGIN:VCALENDAR
VERSION:2.0
PRODID:-//INTiBS//NONSGML kigkonsult.se iCalcreator 2.30.10//
CALSCALE:GREGORIAN
METHOD:PUBLISH
UID:c34283e6-5f61-4d45-8a91-9db1b4a95197
X-WR-CALNAME:iCagenda
X-WR-CALDESC:Event Management Extension for Joomla!
X-WR-RELCALID:3E26604A-50F4-4449-8B3E-E4F4932D05B5
X-WR-TIMEZONE:UTC
BEGIN:VTIMEZONE
TZID:UTC
END:VTIMEZONE
BEGIN:VEVENT
UID:7951c80b-cc29-4f30-b50f-476a380e64a2
DTSTAMP:20260423T085932Z
CATEGORIES:Konferencje
CLASS:PUBLIC
DESCRIPTION;ALTREP="CID:<FFFF__=0ABBE548DFE235B58f9e8a93d@coffeebean.com>":
 \nThe XVII International Conference on Molecular Spectroscopy 2024 will be
  held for the second time in Wojanów (about 100 km from Wrocław) on Septem
 ber 22–25\, 2024.\nThis conference has over 30 years of history\, as the f
 irst meeting was organized by Prof. Henryk Ratajczak (University of Wrocła
 w) in 1991. Currently\, meetings are organized every two years by the Mole
 cular Spectroscopy Communities of Wrocław and Krakow.\nThe entire range of
  spectroscopic methodologies\, techniques\, applications\, and computation
 al and theoretical approaches for investigating the structure\, dynamics\,
  and characteristics of molecular systems are covered in the main conferen
 ce topics.\nConference webpage: https://icms.intibs.pl/\n
DTSTART:20240922T132200Z
DTEND:20240925T132200Z
GEO:00;0
LOCATION:Pałac Wojanów\, Gmina Mysłakowice\, Polska
ORGANIZER:
SEQUENCE:1
SUMMARY:XVII International Conference on Molecular Spectroscopy (ICMS 2024)
TRANSP:OPAQUE
URL:https://www.intibs.pl/en/seminars/past-conferences/2-xvii-international
 -conference-on-molecular-spectroscopy-icms-2024.html
END:VEVENT
END:VCALENDAR
