BEGIN:VCALENDAR
VERSION:2.0
PRODID:-//INTiBS//NONSGML kigkonsult.se iCalcreator 2.30.10//
CALSCALE:GREGORIAN
METHOD:PUBLISH
UID:6c5d6441-d0ae-4571-9299-1b5457a2d78a
X-WR-CALNAME:iCagenda
X-WR-CALDESC:Event Management Extension for Joomla!
X-WR-RELCALID:3E26604A-50F4-4449-8B3E-E4F4932D05B5
X-WR-TIMEZONE:UTC
BEGIN:VTIMEZONE
TZID:UTC
END:VTIMEZONE
BEGIN:VEVENT
UID:4abe0935-dd56-4950-94c6-4375677efe12
DTSTAMP:20260423T090139Z
CATEGORIES:Konferencje
CLASS:PUBLIC
DESCRIPTION:
DTSTART:20030621T000000Z
DTEND:20030626T000000Z
GEO:00;0
LOCATION:Wrocław - Karpacz
ORGANIZER:
SEQUENCE:1
SUMMARY:4th International Spring Workshop on Spectroscopy\, Structure and S
 ynthesis of Rare Earth Systems
TRANSP:OPAQUE
URL:https://www.intibs.pl/en/seminars/past-conferences/19-4th-international
 -spring-workshop-on-spectroscopy-structure-and-synthesis-of-rare-earth-sys
 tems.html
END:VEVENT
END:VCALENDAR
