BEGIN:VCALENDAR
VERSION:2.0
PRODID:-//INTiBS//NONSGML kigkonsult.se iCalcreator 2.30.10//
CALSCALE:GREGORIAN
METHOD:PUBLISH
UID:91446570-8168-4421-9b76-0b382e8cd0fa
X-WR-CALNAME:iCagenda
X-WR-CALDESC:Event Management Extension for Joomla!
X-WR-RELCALID:3E26604A-50F4-4449-8B3E-E4F4932D05B5
X-WR-TIMEZONE:UTC
BEGIN:VTIMEZONE
TZID:UTC
END:VTIMEZONE
BEGIN:VEVENT
UID:89831f5e-3ff3-4a7a-8364-ab0517ad9e87
DTSTAMP:20260423T085932Z
CATEGORIES:Konferencje
CLASS:PUBLIC
DESCRIPTION:
DTSTART:20020707T000000Z
DTEND:20020708T000000Z
GEO:00;0
LOCATION:Wrocław
ORGANIZER:
SEQUENCE:1
SUMMARY:The First Polish-Japanese Workshop on Electron and Crystal Structur
 e Related Properties
TRANSP:OPAQUE
URL:https://www.intibs.pl/en/seminars/past-conferences/16-the-first-polish-
 japanese-workshop-on-electron-and-crystal-structure-related-properties.htm
 l
END:VEVENT
END:VCALENDAR
